BEGIN:VCALENDAR
VERSION:2.0
PRODID:-//The Prince Hotel - ECPv6.15.13//NONSGML v1.0//EN
CALSCALE:GREGORIAN
METHOD:PUBLISH
X-WR-CALNAME:The Prince Hotel
X-ORIGINAL-URL:https://princehotel.com.au
X-WR-CALDESC:Events for The Prince Hotel
REFRESH-INTERVAL;VALUE=DURATION:PT1H
X-Robots-Tag:noindex
X-PUBLISHED-TTL:PT1H
BEGIN:VTIMEZONE
TZID:Australia/Perth
BEGIN:STANDARD
TZOFFSETFROM:+0800
TZOFFSETTO:+0800
TZNAME:AWST
DTSTART:20250101T000000
END:STANDARD
END:VTIMEZONE
BEGIN:VEVENT
DTSTART;TZID=Australia/Perth:20260501T200000
DTEND;TZID=Australia/Perth:20260501T233000
DTSTAMP:20260425T061353
CREATED:20260410T043612Z
LAST-MODIFIED:20260410T043612Z
UID:8094-1777665600-1777678200@princehotel.com.au
SUMMARY:LIGHTNIN JACK
DESCRIPTION:  \nLightnin Jack returns to Duke of George for a night of raw\, groove-driven blues — from stripped-back storytelling to full trio power.\nThe show opens with an intimate solo set\, where Jack’s gritty guitar tone\, percussive style and no-frills delivery take centre stage. Then the rhythm section joins in\, kicking things into gear as the Lightnin Jack Trio lock into deep-pocket blues\, swampy grooves and driving Australiana roots.\n\n From front porch blues to juke-joint energy — this is Lightnin Jack up close
URL:https://princehotel.com.au/event/lightnin-jack/
CATEGORIES:Events
ATTACH;FMTTYPE=image/jpeg:https://princehotel.com.au/wp-content/uploads/2026/04/07-Lightnin-Jack-Press-Shot-scaled.jpg
END:VEVENT
END:VCALENDAR