BEGIN:VCALENDAR
VERSION:2.0
PRODID:-//The Prince Hotel - ECPv6.15.13//NONSGML v1.0//EN
CALSCALE:GREGORIAN
METHOD:PUBLISH
X-WR-CALNAME:The Prince Hotel
X-ORIGINAL-URL:https://princehotel.com.au
X-WR-CALDESC:Events for The Prince Hotel
REFRESH-INTERVAL;VALUE=DURATION:PT1H
X-Robots-Tag:noindex
X-PUBLISHED-TTL:PT1H
BEGIN:VTIMEZONE
TZID:Australia/Perth
BEGIN:STANDARD
TZOFFSETFROM:+0800
TZOFFSETTO:+0800
TZNAME:AWST
DTSTART:20250101T000000
END:STANDARD
END:VTIMEZONE
BEGIN:VEVENT
DTSTART;TZID=Australia/Perth:20260502T193000
DTEND;TZID=Australia/Perth:20260502T233000
DTSTAMP:20260425T062123
CREATED:20260325T023401Z
LAST-MODIFIED:20260325T023401Z
UID:8005-1777750200-1777764600@princehotel.com.au
SUMMARY:MAMMA MIA PARTY
DESCRIPTION:  \nAttention all Dancing Queens\, Super Troupers\, Chiquititas and Fernandos… It’s time to say Thank You for the Music with us at our Mamma Mia tribute party!!\nLet your mother know that you’re going out because we’ll be partying like it’s Our Last Summer as our Best of Both Worlds DJs play all the best ABBA songs from Mamma Mia + Mamma Mia: Here We Go Again! Plus we’ll be spinning all the best throwback hits – you’ll be dancing\, jiving + having the time of your life!\nSo what’s The Name of the Game? Call up Donna + The Dynamos.. because Knowing Me\, Knowing you One of Us should get onto tickets ASAP!\n⭐︎⭐︎⭐︎⭐︎⭐︎⭐︎⭐︎⭐︎⭐︎⭐︎⭐︎⭐︎⭐︎⭐︎⭐︎\nSOUNDS LIKE:\nMamma Mia! : Mamma Mia! Here We Go Again! : ABBA : Grease : Queen : Elton John : Dirty Dancing : Hairspray : Cher : Whitney Houston : Footloose : Robbie Williams : Moulin Rouge! : Neil Diamond : The Bee Gees : + HEAPS MORE!\nPlease note this is an appreciation night to celebrate the music of Mamma Mia! Musical movies on a dancefloor! Best of Both Worlds is not affiliated with Mamma Mia! and the musical will not be performed nor screened at this event.\nPlease read our company T&Cs carefully prior to purchasing your ticket – https://bit.ly/PurchaseTCs\nPlease note: Our events may feature moving and flashing lights. If you have photosensitivity or any related concerns\, feel free to reach out to us with any questions!
URL:https://princehotel.com.au/event/mamma-mia-party/
CATEGORIES:Events
ATTACH;FMTTYPE=image/png:https://princehotel.com.au/wp-content/uploads/2026/03/portrait-_-poster.png
END:VEVENT
END:VCALENDAR