BEGIN:VCALENDAR
VERSION:2.0
PRODID:-//The Prince Hotel - ECPv6.15.13//NONSGML v1.0//EN
CALSCALE:GREGORIAN
METHOD:PUBLISH
X-WR-CALNAME:The Prince Hotel
X-ORIGINAL-URL:https://princehotel.com.au
X-WR-CALDESC:Events for The Prince Hotel
REFRESH-INTERVAL;VALUE=DURATION:PT1H
X-Robots-Tag:noindex
X-PUBLISHED-TTL:PT1H
BEGIN:VTIMEZONE
TZID:Australia/Perth
BEGIN:STANDARD
TZOFFSETFROM:+0800
TZOFFSETTO:+0800
TZNAME:AWST
DTSTART:20250101T000000
END:STANDARD
END:VTIMEZONE
BEGIN:VEVENT
DTSTART;TZID=Australia/Perth:20260523T193000
DTEND;TZID=Australia/Perth:20260523T233000
DTSTAMP:20260421T140113
CREATED:20260410T022833Z
LAST-MODIFIED:20260410T022833Z
UID:8072-1779564600-1779579000@princehotel.com.au
SUMMARY:FUNGALORE
DESCRIPTION:FUNGALORE \nIS BACK BABY! OHHH YEAAAH \nSILVER LIZARD \nOCEAN DRIVE \nTURD \nFREE ENTRY
URL:https://princehotel.com.au/event/fungalore/
CATEGORIES:Events
ATTACH;FMTTYPE=image/jpeg:https://princehotel.com.au/wp-content/uploads/2026/04/669044622_1551070380359858_2333594977605557798_n.jpg
END:VEVENT
BEGIN:VEVENT
DTSTART;TZID=Australia/Perth:20260529T193000
DTEND;TZID=Australia/Perth:20260529T233000
DTSTAMP:20260421T140113
CREATED:20260417T032922Z
LAST-MODIFIED:20260417T033019Z
UID:8102-1780083000-1780097400@princehotel.com.au
SUMMARY:ROBBERS DOG
DESCRIPTION:Rock ‘n’ roll ‘n’ psychedelia western noir combine in a musical avalanche for your ears! Join Robber’s Dog (launching their ‘Hoggets’ vinyl 45 single and special guests The Boogie Men and Lake Mammoth as they bring their collective sonic riffs ‘n’ biffs to the Prince of Wales Hotel\, Bunbury. FREE ENTRY!
URL:https://princehotel.com.au/event/robbers-dog/
CATEGORIES:Events
ATTACH;FMTTYPE=image/jpeg:https://princehotel.com.au/wp-content/uploads/2026/04/RD-2Shows-May2026-A3-LR.jpg
END:VEVENT
BEGIN:VEVENT
DTSTART;TZID=Australia/Perth:20260530T200000
DTEND;TZID=Australia/Perth:20260530T200000
DTSTAMP:20260421T140113
CREATED:20260402T053055Z
LAST-MODIFIED:20260410T020455Z
UID:8062-1780171200-1780171200@princehotel.com.au
SUMMARY:PROUD MARY
DESCRIPTION:𝗣𝗥𝗢𝗨𝗗 𝗠𝗔𝗥𝗬 – 𝗔𝘂𝘀𝘁𝗿𝗮𝗹𝗶𝗮’𝘀 𝗨𝗹𝘁𝗶𝗺𝗮𝘁𝗲 𝗖𝗿𝗲𝗲𝗱𝗲𝗻𝗰𝗲 𝗖𝗹𝗲𝗮𝗿𝘄𝗮𝘁𝗲𝗿 𝗥𝗲𝘃𝗶𝘃𝗮𝗹! \nGet ready for an authentic rock experience as PROUD MARY brings the legendary swampy sounds of CCR to life in full concert style at The Prince of Wales\, Bunbury on Saturday\, May 30th 2026! \n𝐋𝐀𝐒𝐓 𝐓𝐖𝐎 𝐒𝐇𝐎𝐖𝐒 𝐒𝐎𝐋𝐃 𝐎𝐔𝐓! Don’t leave tickets until the last minute! \nFeaturing former members of the 5-time ARIA award-winning band\, The Baby Animals\, this show is a must-see for any rock fan! \nSpecial Guests: Blackwood Rising \nDon’t miss out! Get ready for a night of timeless hits and epic performances. \nCheck them out at: \nProud Mary are: \nRyan Rafferty – Guitar/Vocals \nPaul Cushing – Guitar/Vocals \nEddie Parise – Bass/Vocals \nFrank Celenza – Drums
URL:https://princehotel.com.au/event/proud-mary/
LOCATION:The Prince of Wales Hotel\, Bunbury\,  The Prince of Wales Hotel\, 41 Stephen St Leschenault\,\, Bunbury\, WA\, 6230\, Australia
CATEGORIES:Events
ATTACH;FMTTYPE=image/jpeg:https://princehotel.com.au/wp-content/uploads/2026/04/POW-A3-A3-scaled.jpg
END:VEVENT
BEGIN:VEVENT
DTSTART;TZID=Australia/Perth:20260619T193000
DTEND;TZID=Australia/Perth:20260619T233000
DTSTAMP:20260421T140113
CREATED:20260410T025350Z
LAST-MODIFIED:20260410T034942Z
UID:8077-1781897400-1781911800@princehotel.com.au
SUMMARY:SHAUN KIRK
DESCRIPTION:LESS THAN 150 TICKETS AVAILABLE!\nMore info & tickets >>> https://bit.ly/4uPaq8b\nHailing from the music-filled streets of Melbourne\, Australia\, Shaun Kirk is an award-winning blues and soul troubadour recognized for his exceptional talent as a born entertainer. His unique talent has not only earned him many accolades but also much praise from fellow artists\, such as three-time Grammy Award Winner Fantastic Negrito\, who has declared his show as “One of the best one-man shows he’s ever seen!”\nKirk’s vocals exude a gritty\, soulful depth that seems to transcend far beyond his years\, with critics continually acclaiming him as “one of the finest blues voices Australia has ever heard” (Buzz Mag). Complementing his vocal artistry\, Kirk’s vintage guitar tones and raw grooves pay tribute to the timeless influences that have shaped his musical journey\, resulting in a distinctive sound fast becoming his own.\nShaun’s musical journey has taken him to stages all over the world\, where he’s not only performed but consistently sold out shows\, leaving audiences enthralled by his magnetic presence. From iconic festival stages like Bluesfest Byron Bay\, where he’s become a familiar name\, to sharing the billing with legends like Robert Plant of Led Zeppelin\, John Mayer\, Paolo Nutini\, John Butler Trio\, and The Teskey Brothers; Kirk’s artistic prowess is in esteemed company. Moreover\, he’s also had the honour of opening for household names such as blues maestro Joe Bonamassa\, soul sensation Allen Stone\, and the indomitable Beth Hart; further solidifying his place in the landscape of contemporary music. This remarkable journey is a testament to Kirk’s unmatched talent and ability to connect with audiences across genres and generations.
URL:https://princehotel.com.au/event/shaun-kirk/
CATEGORIES:Events
ATTACH;FMTTYPE=image/png:https://princehotel.com.au/wp-content/uploads/2026/04/LIVE-at-the-Prince-of-Wales-Hotel-Bunbury.png
END:VEVENT
END:VCALENDAR